BEGIN:VCALENDAR
VERSION:2.0
PRODID:-//wp-events-plugin.com//7.2.3.1//EN
TZID:Europe/Berlin
X-WR-TIMEZONE:Europe/Berlin
BEGIN:VEVENT
UID:243@segebergersegelclub.de
DTSTART;TZID=Europe/Berlin:20261115T093000
DTEND;TZID=Europe/Berlin:20261115T170000
DTSTAMP:20260113T073526Z
URL:https://www.segebergersegelclub.de/events/mini-cupper-regatta-grosser-
 preis-der-stehsegler-3/
SUMMARY:Mini-Cupper Regatta - Großer Preis der Stehsegler
DESCRIPTION:Mini Cupper Regatta. Meldung über http://www.mini-cupper.org
CATEGORIES:Regatta
LOCATION:Segeberger Segel-Club\, Segeberger Segel Club\, Kastanienweg\, Bad
  Segeberg\, Schleswig Holstein\, 23795\, Deutschland
X-APPLE-STRUCTURED-LOCATION;VALUE=URI;X-ADDRESS=Segeberger Segel Club\, Kas
 tanienweg\, Bad Segeberg\, Schleswig Holstein\, 23795\, Deutschland;X-APPL
 E-RADIUS=100;X-TITLE=Segeberger Segel-Club:geo:0,0
END:VEVENT
BEGIN:VTIMEZONE
TZID:Europe/Berlin
X-LIC-LOCATION:Europe/Berlin
BEGIN:STANDARD
DTSTART:20261025T020000
TZOFFSETFROM:+0200
TZOFFSETTO:+0100
TZNAME:CET
END:STANDARD
END:VTIMEZONE
END:VCALENDAR