BEGIN:VCALENDAR
VERSION:2.0
PRODID:-//wp-events-plugin.com//7.2.3.1//EN
TZID:Europe/Berlin
X-WR-TIMEZONE:Europe/Berlin
BEGIN:VEVENT
UID:128@segebergersegelclub.de
DTSTART;TZID=Europe/Berlin;VALUE=DATE:20230506
DTEND;TZID=Europe/Berlin;VALUE=DATE:20230508
DTSTAMP:20230312T191714Z
URL:https://www.segebergersegelclub.de/events/kommodore-richter-regatta/
SUMMARY:Kommodore Richter Regatta
DESCRIPTION:Kommodore Richter Regatta für die Piraten\n\nAusschreibung und
  Meldemöglichkeit hier: https://www.manage2sail.com/de-DE/event/Kommodore
 RichterRegatta2023#!/
CATEGORIES:Regatta
LOCATION:Segeberger Segel-Club\, Segeberger Segel Club\, Kastanienweg\, Bad
  Segeberg\, Schleswig Holstein\, 23795\, Deutschland
X-APPLE-STRUCTURED-LOCATION;VALUE=URI;X-ADDRESS=Segeberger Segel Club\, Kas
 tanienweg\, Bad Segeberg\, Schleswig Holstein\, 23795\, Deutschland;X-APPL
 E-RADIUS=100;X-TITLE=Segeberger Segel-Club:geo:0,0
END:VEVENT
BEGIN:VTIMEZONE
TZID:Europe/Berlin
X-LIC-LOCATION:Europe/Berlin
BEGIN:DAYLIGHT
DTSTART:20230326T030000
TZOFFSETFROM:+0100
TZOFFSETTO:+0200
TZNAME:CEST
END:DAYLIGHT
END:VTIMEZONE
END:VCALENDAR