BEGIN:VCALENDAR
VERSION:2.0
PRODID:-//wp-events-plugin.com//7.2.3.1//EN
TZID:Europe/Berlin
X-WR-TIMEZONE:Europe/Berlin
BEGIN:VEVENT
UID:196@segebergersegelclub.de
DTSTART;TZID=Europe/Berlin;VALUE=DATE:20250510
DTEND;TZID=Europe/Berlin;VALUE=DATE:20250512
DTSTAMP:20250222T124018Z
URL:https://www.segebergersegelclub.de/events/kommodore-richter-regatta-un
 d-rudi-hitz-pokal/
SUMMARY:Kommodore Richter Regatta und Rudi Hitz Pokal
DESCRIPTION:Kommodore Richter Regatta für die Piraten\n\nRudi Hitz Pokal f
 ür die OKs\n\nAusschreibung  und Meldemöglichkeit unter\n\nManage2Sail_
 Pirat\n\nManage2Sail_OK
CATEGORIES:Regatta
LOCATION:Segeberger Segel-Club\, Segeberger Segel Club\, Kastanienweg\, Bad
  Segeberg\, Schleswig Holstein\, 23795\, Deutschland
X-APPLE-STRUCTURED-LOCATION;VALUE=URI;X-ADDRESS=Segeberger Segel Club\, Kas
 tanienweg\, Bad Segeberg\, Schleswig Holstein\, 23795\, Deutschland;X-APPL
 E-RADIUS=100;X-TITLE=Segeberger Segel-Club:geo:0,0
END:VEVENT
BEGIN:VTIMEZONE
TZID:Europe/Berlin
X-LIC-LOCATION:Europe/Berlin
BEGIN:DAYLIGHT
DTSTART:20250330T030000
TZOFFSETFROM:+0100
TZOFFSETTO:+0200
TZNAME:CEST
END:DAYLIGHT
END:VTIMEZONE
END:VCALENDAR