BEGIN:VCALENDAR
VERSION:2.0
PRODID:-//wp-events-plugin.com//7.2.3.1//EN
TZID:Europe/Berlin
X-WR-TIMEZONE:Europe/Berlin
BEGIN:VEVENT
UID:142@segebergersegelclub.de
DTSTART;TZID=Europe/Berlin;VALUE=DATE:20230708
DTEND;TZID=Europe/Berlin;VALUE=DATE:20230710
DTSTAMP:20230403T180356Z
URL:https://www.segebergersegelclub.de/events/jubilaeumsregatta-ok-taifun-
 ic-laser-master-pirat-europe/
SUMMARY:Jubiläumsregatta OK\, Taifun\, IC\, Laser Master\, Pirat\, Europe
DESCRIPTION:75 jähriges Jubiläum und Regatta für OK\, Taifun\, Laser Mas
 ter\, Pirat\, Europe\n\nAusschreibung und Meldemöglichkeiten hier: https:
 //www.manage2sail.com/de-DE/event/Jubilaumsregatta75JahreSSC#!/\n\n&nbsp\;
 \n\n&nbsp\;
CATEGORIES:Regatta,Soziales
LOCATION:Segeberger Segel-Club\, Segeberger Segel Club\, Kastanienweg\, Bad
  Segeberg\, Schleswig Holstein\, 23795\, Deutschland
X-APPLE-STRUCTURED-LOCATION;VALUE=URI;X-ADDRESS=Segeberger Segel Club\, Kas
 tanienweg\, Bad Segeberg\, Schleswig Holstein\, 23795\, Deutschland;X-APPL
 E-RADIUS=100;X-TITLE=Segeberger Segel-Club:geo:0,0
END:VEVENT
BEGIN:VTIMEZONE
TZID:Europe/Berlin
X-LIC-LOCATION:Europe/Berlin
BEGIN:DAYLIGHT
DTSTART:20230326T030000
TZOFFSETFROM:+0100
TZOFFSETTO:+0200
TZNAME:CEST
END:DAYLIGHT
END:VTIMEZONE
END:VCALENDAR