BEGIN:VCALENDAR
VERSION:2.0
PRODID:-//wp-events-plugin.com//7.2.3.1//EN
TZID:Europe/Berlin
X-WR-TIMEZONE:Europe/Berlin
BEGIN:VEVENT
UID:197@segebergersegelclub.de
DTSTART;TZID=Europe/Berlin;VALUE=DATE:20250705
DTEND;TZID=Europe/Berlin;VALUE=DATE:20250707
DTSTAMP:20250615T151531Z
URL:https://www.segebergersegelclub.de/events/die-woodstock-2-0-regatta-co
 nger-laser-master-ok-pirat-taifun-ic-europe/
SUMMARY:Die Woodstock 2.0 Regatta Conger\, Laser Master\, OK\, Pirat\, Taif
 un\, O-Jolle
DESCRIPTION:Die Woodstock 2.0 Regatta für Conger\, Laser Master\, OK\, Pir
 at\, Taifun\, O-Jolle\n\nAusschreibung und Meldemöglichkeiten unter Manag
 e2Sail\n\n&nbsp\;\n\n&nbsp\;
CATEGORIES:Regatta,Soziales
LOCATION:Segeberger Segel-Club\, Segeberger Segel Club\, Kastanienweg\, Bad
  Segeberg\, Schleswig Holstein\, 23795\, Deutschland
X-APPLE-STRUCTURED-LOCATION;VALUE=URI;X-ADDRESS=Segeberger Segel Club\, Kas
 tanienweg\, Bad Segeberg\, Schleswig Holstein\, 23795\, Deutschland;X-APPL
 E-RADIUS=100;X-TITLE=Segeberger Segel-Club:geo:0,0
END:VEVENT
BEGIN:VTIMEZONE
TZID:Europe/Berlin
X-LIC-LOCATION:Europe/Berlin
BEGIN:DAYLIGHT
DTSTART:20250330T030000
TZOFFSETFROM:+0100
TZOFFSETTO:+0200
TZNAME:CEST
END:DAYLIGHT
END:VTIMEZONE
END:VCALENDAR